BEGIN:VCALENDAR
VERSION:2.0
CALSCALE:GREGORIAN
PRODID:-//Diputació de Barcelona//DibaCMS//EN
BEGIN:VEVENT
UID:54726
DTSTAMP:20260422T150802
DTSTART:20190721T190000
DTEND:20190721T190000
SUMMARY:ESPECTACLE INFANTIL "DE BRACET" - Festival de Música a l'Aire Lliure d'Estiu
LOCATION:Ronda Sant Antoni, 19 08450 Llinars del Vallès
METHOD:PUBLISH
X-WR-CALNAME:info@llinarsdelvalles.cat
X-WR-TIMEZONE:Europe/Madrid
DESCRIPTION:A càrrec de la companyia Samfaina de Colors (+ info)

URI:https://www.llinarsdelvalles.cat/actualitat/agenda/espectacle-infantil-de-bracet-festival-de-musica-a-laire-lliure-destiu.html
CLASS:PUBLIC
END:VEVENT
END:VCALENDAR
