BEGIN:VCALENDAR
VERSION:2.0
CALSCALE:GREGORIAN
PRODID:-//Diputació de Barcelona//DibaCMS//EN
BEGIN:VEVENT
UID:54733
DTSTAMP:20260422T151955
DTSTART:20190803T210000
DTEND:20190804T230000
SUMMARY:FESTA MAJOR DE SANT ESTEVE DEL COLL
LOCATION:08450 Llinars del Vallès
METHOD:PUBLISH
X-WR-CALNAME:info@llinarsdelvalles.cat
X-WR-TIMEZONE:Europe/Madrid
DESCRIPTION:3 i 4 d'agost de 2019
Organitza: AV de Sant Esteve del Coll

URI:https://www.llinarsdelvalles.cat/actualitat/agenda/54733-festa-major-de-sant-esteve-del-coll.html
CLASS:PUBLIC
END:VEVENT
END:VCALENDAR
