BEGIN:VCALENDAR
VERSION:2.0
CALSCALE:GREGORIAN
PRODID:-//Diputació de Barcelona//DibaCMS//EN
BEGIN:VEVENT
UID:54775
DTSTAMP:20260422T190507
DTSTART:20190922T120000
DTEND:20190922T120000
SUMMARY:FAMILIAR - MÀGIA AL TA - Fascinatio
LOCATION:Ronda Sant Antoni, 19 08450 Llinars del Vallès
METHOD:PUBLISH
X-WR-CALNAME:info@llinarsdelvalles.cat
X-WR-TIMEZONE:Europe/Madrid
DESCRIPTION:Amb el mag Jordi Quimera

URI:https://www.llinarsdelvalles.cat/actualitat/agenda/familiar-magia-al-ta-fascinatio.html
CLASS:PUBLIC
END:VEVENT
END:VCALENDAR
