BEGIN:VCALENDAR
VERSION:2.0
CALSCALE:GREGORIAN
PRODID:-//Diputació de Barcelona//DibaCMS//EN
BEGIN:VEVENT
UID:54777
DTSTAMP:20260422T164842
DTSTART:20191005T180000
DTEND:20191005T180000
SUMMARY:TEATRE - COMÈDIA AL TA - La tendresa
LOCATION:Ronda Sant Antoni, 19 08450 Llinars del Vallès
METHOD:PUBLISH
X-WR-CALNAME:info@llinarsdelvalles.cat
X-WR-TIMEZONE:Europe/Madrid
DESCRIPTION:Dagoll Dagom - T de Teatre

URI:https://www.llinarsdelvalles.cat/actualitat/agenda/teatre-comedia-al-ta-la-tendresa.html
CLASS:PUBLIC
END:VEVENT
END:VCALENDAR
