BEGIN:VCALENDAR
VERSION:2.0
CALSCALE:GREGORIAN
PRODID:-//Diputació de Barcelona//DibaCMS//EN
BEGIN:VEVENT
UID:54780
DTSTAMP:20260422T164851
DTSTART:20191020T120000
DTEND:20191020T120000
SUMMARY:FAMILIAR - CIRC AL TA - Espera
LOCATION:Ronda Sant Antoni, 19 08450 Llinars del Vallès
METHOD:PUBLISH
X-WR-CALNAME:info@llinarsdelvalles.cat
X-WR-TIMEZONE:Europe/Madrid
DESCRIPTION:Companyia EIA

URI:https://www.llinarsdelvalles.cat/actualitat/agenda/familiar-circ-al-ta-espera.html
CLASS:PUBLIC
END:VEVENT
END:VCALENDAR
