BEGIN:VCALENDAR
VERSION:2.0
CALSCALE:GREGORIAN
PRODID:-//Diputació de Barcelona//DibaCMS//EN
BEGIN:VEVENT
UID:54781
DTSTAMP:20260422T151236
DTSTART:20191020T190000
DTEND:20191020T190000
SUMMARY:CANT CORAL AL TA - Els colors del mar
LOCATION:Ronda Sant Antoni, 19 08450 Llinars del Vallès
METHOD:PUBLISH
X-WR-CALNAME:info@llinarsdelvalles.cat
X-WR-TIMEZONE:Europe/Madrid
DESCRIPTION:VEUS - Cor Infantil Amics de la Unió, Gemma Humet i Eduard Iniesta

URI:https://www.llinarsdelvalles.cat/actualitat/agenda/cant-coral-al-ta-els-colors-del-mar.html
CLASS:PUBLIC
END:VEVENT
END:VCALENDAR
