BEGIN:VCALENDAR
VERSION:2.0
CALSCALE:GREGORIAN
PRODID:-//Diputació de Barcelona//DibaCMS//EN
BEGIN:VEVENT
UID:54782
DTSTAMP:20260423T004951
DTSTART:20191026T200000
DTEND:20191026T200000
SUMMARY:TEATRE MUSICAL AL TA - Per si no ens tornem a veure
LOCATION:Ronda Sant Antoni, 19 08450 Llinars del Vallès
METHOD:PUBLISH
X-WR-CALNAME:info@llinarsdelvalles.cat
X-WR-TIMEZONE:Europe/Madrid
DESCRIPTION:Un Musical per curar aquells que ja no creuen en l'amor

URI:https://www.llinarsdelvalles.cat/actualitat/agenda/teatre-musical-al-ta-per-si-no-ens-tornem-a-veure.html
CLASS:PUBLIC
END:VEVENT
END:VCALENDAR
