BEGIN:VCALENDAR
VERSION:2.0
CALSCALE:GREGORIAN
PRODID:-//Diputació de Barcelona//DibaCMS//EN
BEGIN:VEVENT
UID:54783
DTSTAMP:20260423T090117
DTSTART:20191109T200000
DTEND:20191109T200000
SUMMARY:TEATRE AL TA - El futur
LOCATION:Ronda Sant Antoni, 19 08450 Llinars del Vallès
METHOD:PUBLISH
X-WR-CALNAME:info@llinarsdelvalles.cat
X-WR-TIMEZONE:Europe/Madrid
DESCRIPTION:El viatge de dos joves per diferents països europeus a la recerca de la veritat i la llibertat

URI:https://www.llinarsdelvalles.cat/actualitat/agenda/teatre-al-ta-el-futur.html
CLASS:PUBLIC
END:VEVENT
END:VCALENDAR
