BEGIN:VCALENDAR
VERSION:2.0
CALSCALE:GREGORIAN
PRODID:-//Diputació de Barcelona//DibaCMS//EN
BEGIN:VEVENT
UID:54787
DTSTAMP:20260422T113408
DTSTART:20191124T120000
DTEND:20191124T120000
SUMMARY:TEATRE AL TA - Carlota i la dona de neu
LOCATION:Ronda Sant Antoni, 19 08450 Llinars del Vallès
METHOD:PUBLISH
X-WR-CALNAME:info@llinarsdelvalles.cat
X-WR-TIMEZONE:Europe/Madrid
DESCRIPTION:TILL TALL TEATRE

URI:https://www.llinarsdelvalles.cat/actualitat/agenda/teatre-al-ta-carlota-i-la-dona-de-neu.html
CLASS:PUBLIC
END:VEVENT
END:VCALENDAR
