BEGIN:VCALENDAR
VERSION:2.0
CALSCALE:GREGORIAN
PRODID:-//Diputació de Barcelona//DibaCMS//EN
BEGIN:VEVENT
UID:54792
DTSTAMP:20260422T124343
DTSTART:20191226T180000
DTEND:20191226T180000
SUMMARY:TEATRE AL TA - Els Pastorets 
LOCATION:Ronda Sant Antoni, 19 08450 Llinars del Vallès
METHOD:PUBLISH
X-WR-CALNAME:info@llinarsdelvalles.cat
X-WR-TIMEZONE:Europe/Madrid
DESCRIPTION:Amics dels Pastorets de Llinars

URI:https://www.llinarsdelvalles.cat/actualitat/agenda/teatre-al-ta-els-pastorets-.html
CLASS:PUBLIC
END:VEVENT
END:VCALENDAR
