BEGIN:VCALENDAR
VERSION:2.0
CALSCALE:GREGORIAN
PRODID:-//Diputació de Barcelona//DibaCMS//EN
BEGIN:VEVENT
UID:54800
DTSTAMP:20260422T150901
DTSTART:20191008T173000
DTEND:20191008T173000
SUMMARY:EXPLORADORS DE CONTES 
LOCATION:Av. Pau Casals, 26 08450 Llinars del Vallès
METHOD:PUBLISH
X-WR-CALNAME:info@llinarsdelvalles.cat
X-WR-TIMEZONE:Europe/Madrid
DESCRIPTION:A càrrec de Fina Arqué i Marta Romero

URI:https://www.llinarsdelvalles.cat/actualitat/agenda/exploradors-de-contes-.html
CLASS:PUBLIC
END:VEVENT
END:VCALENDAR
