BEGIN:VCALENDAR
VERSION:2.0
CALSCALE:GREGORIAN
PRODID:-//Diputació de Barcelona//DibaCMS//EN
BEGIN:VEVENT
UID:54807
DTSTAMP:20260422T135844
DTSTART:20191021T153000
DTEND:20191021T153000
SUMMARY:LECTURA EN VEU ALTA 
LOCATION:Av. Pau Casals, 26 08450 Llinars del Vallès
METHOD:PUBLISH
X-WR-CALNAME:info@llinarsdelvalles.cat
X-WR-TIMEZONE:Europe/Madrid
DESCRIPTION:A càrrec de Carme Pallarès

URI:https://www.llinarsdelvalles.cat/actualitat/agenda/54807-lectura-en-veu-alta-.html
CLASS:PUBLIC
END:VEVENT
END:VCALENDAR
