BEGIN:VCALENDAR
VERSION:2.0
CALSCALE:GREGORIAN
PRODID:-//Diputació de Barcelona//DibaCMS//EN
BEGIN:VEVENT
UID:54810
DTSTAMP:20260422T150931
DTSTART:20191025T190000
DTEND:20191025T190000
SUMMARY:CLUB DE LECTURA FEMINISTA
LOCATION:Av. Pau Casals, 26 08450 Llinars del Vallès
METHOD:PUBLISH
X-WR-CALNAME:info@llinarsdelvalles.cat
X-WR-TIMEZONE:Europe/Madrid
DESCRIPTION:A càrrec de Marina Martori 

URI:https://www.llinarsdelvalles.cat/actualitat/agenda/club-de-lectura-feminista.html
CLASS:PUBLIC
END:VEVENT
END:VCALENDAR
