BEGIN:VCALENDAR
VERSION:2.0
CALSCALE:GREGORIAN
PRODID:-//Diputació de Barcelona//DibaCMS//EN
BEGIN:VEVENT
UID:54827
DTSTAMP:20260422T164830
DTSTART:20190901T090000
DTEND:20190901T090000
SUMMARY:TORNEIG FINAL A 3 BANDES DE FESTA MAJOR
LOCATION:C/ de Ravalet, 15-17 08450 Llinars del Vallès
METHOD:PUBLISH
X-WR-CALNAME:info@llinarsdelvalles.cat
X-WR-TIMEZONE:Europe/Madrid
DESCRIPTION:Actes previs de Festa Major

URI:https://www.llinarsdelvalles.cat/actualitat/agenda/torneig-final-a-3-bandes-de-festa-major.html
CLASS:PUBLIC
END:VEVENT
END:VCALENDAR
