BEGIN:VCALENDAR
VERSION:2.0
CALSCALE:GREGORIAN
PRODID:-//Diputació de Barcelona//DibaCMS//EN
BEGIN:VEVENT
UID:54841
DTSTAMP:20260422T135928
DTSTART:20190728T190000
DTEND:20190728T190000
SUMMARY:BALLADA DE SARDANES a càrrec de la Cobla Genisenca
LOCATION:Plaça dels Països Catalans 
METHOD:PUBLISH
X-WR-CALNAME:info@llinarsdelvalles.cat
X-WR-TIMEZONE:Europe/Madrid
DESCRIPTION:
URI:https://www.llinarsdelvalles.cat/actualitat/agenda/ballada-de-sardanes-a-carrec-de-la-cobla-genisenca.html
CLASS:PUBLIC
END:VEVENT
END:VCALENDAR
