BEGIN:VCALENDAR
VERSION:2.0
CALSCALE:GREGORIAN
PRODID:-//Diputació de Barcelona//DibaCMS//EN
BEGIN:VEVENT
UID:54852
DTSTAMP:20260422T220700
DTSTART:20190910T210000
DTEND:20190910T210000
SUMMARY:MARXA PER LA LLIBERTAT
LOCATION:Plaça de la Vila. 
METHOD:PUBLISH
X-WR-CALNAME:info@llinarsdelvalles.cat
X-WR-TIMEZONE:Europe/Madrid
DESCRIPTION:Inici a la Plaça de la Vila fins a la plaça dels Països Catalans.

Organitza: Llinars per la independència - ANC.

URI:https://www.llinarsdelvalles.cat/actualitat/agenda/marxa-per-la-llibertat.html
CLASS:PUBLIC
END:VEVENT
END:VCALENDAR
