BEGIN:VCALENDAR
VERSION:2.0
CALSCALE:GREGORIAN
PRODID:-//Diputació de Barcelona//DibaCMS//EN
BEGIN:VEVENT
UID:54854
DTSTAMP:20260422T164757
DTSTART:20190910T220000
DTEND:20190910T220000
SUMMARY:CORREBOIG - amb la xaranga "Tutu's Band"
LOCATION:Plaça de la Vila. 
METHOD:PUBLISH
X-WR-CALNAME:info@llinarsdelvalles.cat
X-WR-TIMEZONE:Europe/Madrid
DESCRIPTION:Cercavila amb diverses parades de refrigeri .

Venda de tiquets anticipats a Can Nogueras fins el 31 d'agost i el mateix dia a les 21:30 h.

En cas de pluja a la carpa del carrer de Federic Marés.

URI:https://www.llinarsdelvalles.cat/actualitat/agenda/correboig-amb-la-xaranga-tutus-band.html
CLASS:PUBLIC
END:VEVENT
END:VCALENDAR
