BEGIN:VCALENDAR
VERSION:2.0
CALSCALE:GREGORIAN
PRODID:-//Diputació de Barcelona//DibaCMS//EN
BEGIN:VEVENT
UID:54857
DTSTAMP:20260422T220843
DTSTART:20190910T000000
DTEND:20190910T000000
SUMMARY:NIT JOVE - a càrrec del grup "SEGUIREM", "EBRI KNIGHT" i dj animal show
LOCATION:Carpa del carrer de Federic Marés 
METHOD:PUBLISH
X-WR-CALNAME:info@llinarsdelvalles.cat
X-WR-TIMEZONE:Europe/Madrid
DESCRIPTION:Comencem la nit jove amb el gup "Seguirem", un tribut a Obrim pas, amb un directe carregat d'energia i força.

Seguidament amb els ja conegut Ebri Knight que ens presenten el seu nou treball "la voz dormida" i acabarem amb els trepidants i coneguts Animal Dj. T'ho perdràs?

URI:https://www.llinarsdelvalles.cat/actualitat/agenda/nit-jove-a-carrec-del-grup-seguirem-ebri-knight-i-dj-animal-show.html
CLASS:PUBLIC
END:VEVENT
END:VCALENDAR
