BEGIN:VCALENDAR
VERSION:2.0
CALSCALE:GREGORIAN
PRODID:-//Diputació de Barcelona//DibaCMS//EN
BEGIN:VEVENT
UID:54858
DTSTAMP:20260422T180054
DTSTART:20190911T100000
DTEND:20190911T100000
SUMMARY:ACTES OFICIALS DE L'11 DE SETEMBRE 
LOCATION:Plaça dels Països Catalans 
METHOD:PUBLISH
X-WR-CALNAME:info@llinarsdelvalles.cat
X-WR-TIMEZONE:Europe/Madrid
DESCRIPTION:Col·laboren: Trabucaires de Llinars, Esbart Dansaire de Llinars, Coral Turó del Vent.

En cas de pluja a la carpa del carrer de Federic Marés. 

URI:https://www.llinarsdelvalles.cat/actualitat/agenda/actes-oficials-de-l11-de-setembre-.html
CLASS:PUBLIC
END:VEVENT
END:VCALENDAR
