BEGIN:VCALENDAR
VERSION:2.0
CALSCALE:GREGORIAN
PRODID:-//Diputació de Barcelona//DibaCMS//EN
BEGIN:VEVENT
UID:54859
DTSTAMP:20260422T174342
DTSTART:20190911T113000
DTEND:20190911T113000
SUMMARY:DIADA CASTELLERA - a càrrec dels Xics de Granollers, Castellers de Sant Cugat i els Manyacs de Parets
LOCATION:Plaça de la Vila 
METHOD:PUBLISH
X-WR-CALNAME:info@llinarsdelvalles.cat
X-WR-TIMEZONE:Europe/Madrid
DESCRIPTION:
URI:https://www.llinarsdelvalles.cat/actualitat/agenda/diada-castellera-a-carrec-dels-xics-de-granollers-castellers-de-sant-cugat-i-els-manyacs-de-parets.html
CLASS:PUBLIC
END:VEVENT
END:VCALENDAR
