BEGIN:VCALENDAR
VERSION:2.0
CALSCALE:GREGORIAN
PRODID:-//Diputació de Barcelona//DibaCMS//EN
BEGIN:VEVENT
UID:54867
DTSTAMP:20260422T174801
DTSTART:20190926T190000
DTEND:20190926T190000
SUMMARY:PRESENTACIÓ DEL LLIBRE - UNA CASA LLUNY DEL MAR de Marina Martori
LOCATION:Av. Pau Casals, 26 08450 Llinars del Vallès
METHOD:PUBLISH
X-WR-CALNAME:info@llinarsdelvalles.cat
X-WR-TIMEZONE:Europe/Madrid
DESCRIPTION:A càrrec de la Maria Teresa Pous, escriptora, i de la mateixa autora.

Sala d'actes de la Biblioteca Municipal Can Casas.

URI:https://www.llinarsdelvalles.cat/actualitat/agenda/presentacio-del-llibre-una-casa-lluny-del-mar-de-marina-martori.html
CLASS:PUBLIC
END:VEVENT
END:VCALENDAR
