BEGIN:VCALENDAR
VERSION:2.0
CALSCALE:GREGORIAN
PRODID:-//Diputació de Barcelona//DibaCMS//EN
BEGIN:VEVENT
UID:54880
DTSTAMP:20260422T164643
DTSTART:20191012T120000
DTEND:20191012T120000
SUMMARY:Visita guiada al Castell Nou i tast de vins i formatges
LOCATION:08450 Llinars del Vallès
METHOD:PUBLISH
X-WR-CALNAME:info@llinarsdelvalles.cat
X-WR-TIMEZONE:Europe/Madrid
DESCRIPTION:
URI:https://www.llinarsdelvalles.cat/actualitat/agenda/visita-guiada-al-castell-nou-i-tast-de-vins-i-formatges.html
CLASS:PUBLIC
END:VEVENT
END:VCALENDAR
