BEGIN:VCALENDAR
VERSION:2.0
CALSCALE:GREGORIAN
PRODID:-//Diputació de Barcelona//DibaCMS//EN
BEGIN:VEVENT
UID:54883
DTSTAMP:20260422T175046
DTSTART:20190922T120000
DTEND:20190922T120000
SUMMARY:Maridatge a la Masia Can Canal
LOCATION:Camí a Can Canal, B-510 
METHOD:PUBLISH
X-WR-CALNAME:info@llinarsdelvalles.cat
X-WR-TIMEZONE:Europe/Madrid
DESCRIPTION:ENOTAST - Tasta el territori DO Alella

URI:https://www.llinarsdelvalles.cat/actualitat/agenda/maridatge-a-la-masia-can-canal.html
CLASS:PUBLIC
END:VEVENT
END:VCALENDAR
