BEGIN:VCALENDAR
VERSION:2.0
CALSCALE:GREGORIAN
PRODID:-//Diputació de Barcelona//DibaCMS//EN
BEGIN:VEVENT
UID:54887
DTSTAMP:20260422T125232
DTSTART:20191124T113000
DTEND:20191124T113000
SUMMARY:TALLER FAMILIAR “La vida del llop a l’abast de tothom”
LOCATION:
METHOD:PUBLISH
X-WR-CALNAME:info@llinarsdelvalles.cat
X-WR-TIMEZONE:Europe/Madrid
DESCRIPTION:Us aproparà al món d'aquest fantàstic animal.

URI:https://www.llinarsdelvalles.cat/actualitat/agenda/54887-taller-familiar-la-vida-del-llop-a-labast-de-tothom.html
CLASS:PUBLIC
END:VEVENT
END:VCALENDAR
