BEGIN:VCALENDAR
VERSION:2.0
CALSCALE:GREGORIAN
PRODID:-//Diputació de Barcelona//DibaCMS//EN
BEGIN:VEVENT
UID:54913
DTSTAMP:20260422T164944
DTSTART:20191005T194500
DTEND:20191005T194500
SUMMARY:Màster de zumba amb Jessica Expósito 
LOCATION:
METHOD:PUBLISH
X-WR-CALNAME:info@llinarsdelvalles.cat
X-WR-TIMEZONE:Europe/Madrid
DESCRIPTION:En motiu del desè aniversari de l'Esportiu.

URI:https://www.llinarsdelvalles.cat/actualitat/agenda/master-de-zumba-amb-jessica-exposito-.html
CLASS:PUBLIC
END:VEVENT
END:VCALENDAR
