BEGIN:VCALENDAR
VERSION:2.0
CALSCALE:GREGORIAN
PRODID:-//Diputació de Barcelona//DibaCMS//EN
BEGIN:VEVENT
UID:54923
DTSTAMP:20260422T180023
DTSTART:20191005T120000
DTEND:20191031T200000
SUMMARY:Exposició "ArtísticaMent" del club social Torrassa
LOCATION:Av. Pau Casals, 26 08450 Llinars del Vallès
METHOD:PUBLISH
X-WR-CALNAME:info@llinarsdelvalles.cat
X-WR-TIMEZONE:Europe/Madrid
DESCRIPTION:
URI:https://www.llinarsdelvalles.cat/actualitat/agenda/exposicio-artisticament-del-club-social-torrassa.html
CLASS:PUBLIC
END:VEVENT
END:VCALENDAR
