BEGIN:VCALENDAR
VERSION:2.0
CALSCALE:GREGORIAN
PRODID:-//Diputació de Barcelona//DibaCMS//EN
BEGIN:VEVENT
UID:54925
DTSTAMP:20260422T135949
DTSTART:20191026T113000
DTEND:20191026T113000
SUMMARY:L'Hora dels nadons en anglès
LOCATION:
METHOD:PUBLISH
X-WR-CALNAME:info@llinarsdelvalles.cat
X-WR-TIMEZONE:Europe/Madrid
DESCRIPTION:De 0 a 3 anys.

URI:https://www.llinarsdelvalles.cat/actualitat/agenda/lhora-dels-nadons-en-angles.html
CLASS:PUBLIC
END:VEVENT
END:VCALENDAR
