BEGIN:VCALENDAR
VERSION:2.0
CALSCALE:GREGORIAN
PRODID:-//Diputació de Barcelona//DibaCMS//EN
BEGIN:VEVENT
UID:54926
DTSTAMP:20260422T232110
DTSTART:20191011T173000
DTEND:20191011T173000
SUMMARY:Fuig Bèstia
LOCATION:
METHOD:PUBLISH
X-WR-CALNAME:info@llinarsdelvalles.cat
X-WR-TIMEZONE:Europe/Madrid
DESCRIPTION:Un conte narrat per la Mon Mas sobre la tristor, la Dolça i una Bèstia de la que no sempre cal fugir.

URI:https://www.llinarsdelvalles.cat/actualitat/agenda/fuig-bestia.html
CLASS:PUBLIC
END:VEVENT
END:VCALENDAR
