BEGIN:VCALENDAR
VERSION:2.0
CALSCALE:GREGORIAN
PRODID:-//Diputació de Barcelona//DibaCMS//EN
BEGIN:VEVENT
UID:54927
DTSTAMP:20260422T164251
DTSTART:20191018T180000
DTEND:20191018T180000
SUMMARY:TALLER FAMILIAR Hi ha un monstre sota el llit!!!
LOCATION:Av. Pau Casals, 26 08450 Llinars del Vallès
METHOD:PUBLISH
X-WR-CALNAME:info@llinarsdelvalles.cat
X-WR-TIMEZONE:Europe/Madrid
DESCRIPTION:
URI:https://www.llinarsdelvalles.cat/actualitat/agenda/taller-familiar-hi-ha-un-monstre-sota-el-llit.html
CLASS:PUBLIC
END:VEVENT
END:VCALENDAR
