BEGIN:VCALENDAR
VERSION:2.0
CALSCALE:GREGORIAN
PRODID:-//Diputació de Barcelona//DibaCMS//EN
BEGIN:VEVENT
UID:54935
DTSTAMP:20260422T125055
DTSTART:20191130T090000
DTEND:20191201T210000
SUMMARY:23a Fira dels Torrons i III Fira del Tast
LOCATION:Plaça dels Països Catalans i Carpa 
METHOD:PUBLISH
X-WR-CALNAME:info@llinarsdelvalles.cat
X-WR-TIMEZONE:Europe/Madrid
DESCRIPTION:30 de novembre i 1 de desembre.
Consulta el prgrama de la Fira en aquest enllaç.

URI:https://www.llinarsdelvalles.cat/actualitat/agenda/23a-fira-dels-torrons-i-iii-fira-del-tast.html
CLASS:PUBLIC
END:VEVENT
END:VCALENDAR
