BEGIN:VCALENDAR
VERSION:2.0
CALSCALE:GREGORIAN
PRODID:-//Diputació de Barcelona//DibaCMS//EN
BEGIN:VEVENT
UID:54956
DTSTAMP:20260422T164728
DTSTART:20191027T090000
DTEND:20191027T090000
SUMMARY:VII Trofeu Llinars del Vallès de Balls Esportiu
LOCATION:Av. Pau Casals, 18-20 (Àrea central) 08450 Llinars del Vallès
METHOD:PUBLISH
X-WR-CALNAME:info@llinarsdelvalles.cat
X-WR-TIMEZONE:Europe/Madrid
DESCRIPTION:Ball single, ball esportiu i dansa coreogràfica.

URI:https://www.llinarsdelvalles.cat/actualitat/agenda/vii-trofeu-llinars-del-valles-de-balls-esportiu.html
CLASS:PUBLIC
END:VEVENT
END:VCALENDAR
