BEGIN:VCALENDAR
VERSION:2.0
CALSCALE:GREGORIAN
PRODID:-//Diputació de Barcelona//DibaCMS//EN
BEGIN:VEVENT
UID:54958
DTSTAMP:20260422T151833
DTSTART:20191029T180000
DTEND:20191029T180000
SUMMARY:MENOPAUSIA, DIETA I SALUT
LOCATION:C/ Josep Argila, 39 08450 Llinars del Vallés
METHOD:PUBLISH
X-WR-CALNAME:info@llinarsdelvalles.cat
X-WR-TIMEZONE:Europe/Madrid
DESCRIPTION:A càrrec de Teresa Jané Planas.

 

URI:https://www.llinarsdelvalles.cat/actualitat/agenda/menopausia-dieta-i-salut.html
CLASS:PUBLIC
END:VEVENT
END:VCALENDAR
