BEGIN:VCALENDAR
VERSION:2.0
CALSCALE:GREGORIAN
PRODID:-//Diputació de Barcelona//DibaCMS//EN
BEGIN:VEVENT
UID:54960
DTSTAMP:20260422T164544
DTSTART:20191104T170000
DTEND:20191104T170000
SUMMARY:CLASSE MAGISTRAL DE MANDALES
LOCATION:Av. Pau Casals, 26 08450 Llinars del Vallès
METHOD:PUBLISH
X-WR-CALNAME:info@llinarsdelvalles.cat
X-WR-TIMEZONE:Europe/Madrid
DESCRIPTION:Cal portar, llapis, goma, regla i paper.

URI:https://www.llinarsdelvalles.cat/actualitat/agenda/classe-magistral-de-mandales.html
CLASS:PUBLIC
END:VEVENT
END:VCALENDAR
