BEGIN:VCALENDAR
VERSION:2.0
CALSCALE:GREGORIAN
PRODID:-//Diputació de Barcelona//DibaCMS//EN
BEGIN:VEVENT
UID:54962
DTSTAMP:20260422T220742
DTSTART:20191108T183000
DTEND:20191108T183000
SUMMARY:TALLER PER ADULTS "Cultiu en balcons i terrats"
LOCATION:Av. Pau Casals, 26 08450 Llinars del Vallès
METHOD:PUBLISH
X-WR-CALNAME:info@llinarsdelvalles.cat
X-WR-TIMEZONE:Europe/Madrid
DESCRIPTION:Inscripció prèvia.

URI:https://www.llinarsdelvalles.cat/actualitat/agenda/taller-per-adults-cultiu-en-balcons-i-terrats.html
CLASS:PUBLIC
END:VEVENT
END:VCALENDAR
