BEGIN:VCALENDAR
VERSION:2.0
CALSCALE:GREGORIAN
PRODID:-//Diputació de Barcelona//DibaCMS//EN
BEGIN:VEVENT
UID:54964
DTSTAMP:20260422T150949
DTSTART:20191113T173000
DTEND:20191113T173000
SUMMARY:L'HORA DEL CONTE EN ANGLÈS - Story time "Where's spot"
LOCATION:Av. Pau Casals, 26 08450 Llinars del Vallès
METHOD:PUBLISH
X-WR-CALNAME:info@llinarsdelvalles.cat
X-WR-TIMEZONE:Europe/Madrid
DESCRIPTION:A càrrec de Cambridge School.

URI:https://www.llinarsdelvalles.cat/actualitat/agenda/lhora-del-conte-en-angles-story-time-wheres-spot.html
CLASS:PUBLIC
END:VEVENT
END:VCALENDAR
