BEGIN:VCALENDAR
VERSION:2.0
CALSCALE:GREGORIAN
PRODID:-//Diputació de Barcelona//DibaCMS//EN
BEGIN:VEVENT
UID:54967
DTSTAMP:20260422T123258
DTSTART:20191115T190000
DTEND:20191115T190000
SUMMARY:PRESENTACIÓ DEL LLIBRE "Felices sin comer perdices: Guia para padres vegetarianos"
LOCATION:Av. Pau Casals, 26 08450 Llinars del Vallès
METHOD:PUBLISH
X-WR-CALNAME:info@llinarsdelvalles.cat
X-WR-TIMEZONE:Europe/Madrid
DESCRIPTION:D'Inmaculada Baeza i Elena de la Serna.

URI:https://www.llinarsdelvalles.cat/actualitat/agenda/presentacio-del-llibre-felices-sin-comer-perdices-guia-para-padres-vegetarianos.html
CLASS:PUBLIC
END:VEVENT
END:VCALENDAR
