BEGIN:VCALENDAR
VERSION:2.0
CALSCALE:GREGORIAN
PRODID:-//Diputació de Barcelona//DibaCMS//EN
BEGIN:VEVENT
UID:54971
DTSTAMP:20260422T113352
DTSTART:20191124T093000
DTEND:20191124T110000
SUMMARY:CAMINADA "Orgullosa de ser dona" 
LOCATION:Plaça de la Vila de Llinars 9.30 h i trobada a les 11 h a la plaça de la Vila de Villalba Sassera. 
METHOD:PUBLISH
X-WR-CALNAME:info@llinarsdelvalles.cat
X-WR-TIMEZONE:Europe/Madrid
DESCRIPTION:Opcional sortida des de la parada d'autobús de St. Antoni de Vilamajor a les 9.24 h, el transport serà gratuït. 

URI:https://www.llinarsdelvalles.cat/actualitat/agenda/caminada-orgullosa-de-ser-dona-.html
CLASS:PUBLIC
END:VEVENT
END:VCALENDAR
