BEGIN:VCALENDAR
VERSION:2.0
CALSCALE:GREGORIAN
PRODID:-//Diputació de Barcelona//DibaCMS//EN
BEGIN:VEVENT
UID:54972
DTSTAMP:20260422T113927
DTSTART:20191127T173000
DTEND:20191127T173000
SUMMARY:CLUB DE LECTURA INFANTIL "Les illes dels tresors" 
LOCATION:Av. Pau Casals, 26 08450 Llinars del Vallès
METHOD:PUBLISH
X-WR-CALNAME:info@llinarsdelvalles.cat
X-WR-TIMEZONE:Europe/Madrid
DESCRIPTION:Infants de 3r a 5è de primària. Inscripció prèvia. Places disponibles.
Vine a gaudir d'un club de lectura diferent, dinàmic i molt engrescador!

URI:https://www.llinarsdelvalles.cat/actualitat/agenda/club-de-lectura-infantil-les-illes-dels-tresors-.html
CLASS:PUBLIC
END:VEVENT
END:VCALENDAR
