BEGIN:VCALENDAR
VERSION:2.0
CALSCALE:GREGORIAN
PRODID:-//Diputació de Barcelona//DibaCMS//EN
BEGIN:VEVENT
UID:54990
DTSTAMP:20260422T114213
DTSTART:20191202T153000
DTEND:20191202T153000
SUMMARY:CLUB DE LECTURA en veu alta i conversa en català 
LOCATION:Av. Pau Casals, 26 08450 Llinars del Vallès
METHOD:PUBLISH
X-WR-CALNAME:info@llinarsdelvalles.cat
X-WR-TIMEZONE:Europe/Madrid
DESCRIPTION:Places disponibles

URI:https://www.llinarsdelvalles.cat/actualitat/agenda/54990-club-de-lectura-en-veu-alta-i-conversa-en-catala-.html
CLASS:PUBLIC
END:VEVENT
END:VCALENDAR
