BEGIN:VCALENDAR
VERSION:2.0
CALSCALE:GREGORIAN
PRODID:-//Diputació de Barcelona//DibaCMS//EN
BEGIN:VEVENT
UID:54999
DTSTAMP:20260422T113431
DTSTART:20191123T093000
DTEND:20191123T093000
SUMMARY:Ruta per Llinars i botifarrada gratuïta a La Torrassa
LOCATION:
METHOD:PUBLISH
X-WR-CALNAME:info@llinarsdelvalles.cat
X-WR-TIMEZONE:Europe/Madrid
DESCRIPTION:En motiu de la propera Fira dels Torrons, l'Ajuntament ha organitzat una ruta col·lectiva per diferents indrets del poble d'interès turístic i paisatgístic

URI:https://www.llinarsdelvalles.cat/actualitat/agenda/ruta-per-llinars-i-botifarrada-gratuita-a-la-torrassa.html
CLASS:PUBLIC
END:VEVENT
END:VCALENDAR
