BEGIN:VCALENDAR
VERSION:2.0
CALSCALE:GREGORIAN
PRODID:-//Diputació de Barcelona//DibaCMS//EN
BEGIN:VEVENT
UID:55009
DTSTAMP:20260422T113322
DTSTART:20191207T193000
DTEND:20191207T193000
SUMMARY:VINE A CELEBRAR EL 25è ANIVERSARI DE CASALS DE JOVES DE CATALUNYA
LOCATION:Plaça dels països Catalans. 
METHOD:PUBLISH
X-WR-CALNAME:info@llinarsdelvalles.cat
X-WR-TIMEZONE:Europe/Madrid
DESCRIPTION:Carretillada, correboig i concerts.

URI:https://www.llinarsdelvalles.cat/actualitat/agenda/vine-a-celebrar-el-25e-aniversari-de-casals-de-joves-de-catalunya.html
CLASS:PUBLIC
END:VEVENT
END:VCALENDAR
