BEGIN:VCALENDAR
VERSION:2.0
CALSCALE:GREGORIAN
PRODID:-//Diputació de Barcelona//DibaCMS//EN
BEGIN:VEVENT
UID:55010
DTSTAMP:20260422T113945
DTSTART:20191208T140000
DTEND:20191208T140000
SUMMARY:DINAR DEL SOCI i tot seguit actuació del Gran Tenor Juan Alberto Aznar.
LOCATION:Sala polivalent del Casal Cívic 
METHOD:PUBLISH
X-WR-CALNAME:info@llinarsdelvalles.cat
X-WR-TIMEZONE:Europe/Madrid
DESCRIPTION:Acte per a la Marató de TV3.

URI:https://www.llinarsdelvalles.cat/actualitat/agenda/dinar-del-soci-i-tot-seguit-actuacio-del-gran-tenor-juan-alberto-aznar.html
CLASS:PUBLIC
END:VEVENT
END:VCALENDAR
