BEGIN:VCALENDAR
VERSION:2.0
CALSCALE:GREGORIAN
PRODID:-//Diputació de Barcelona//DibaCMS//EN
BEGIN:VEVENT
UID:55012
DTSTAMP:20260422T164519
DTSTART:20191201T073000
DTEND:20191201T073000
SUMMARY:25a CAMINADA POPULAR 
LOCATION:Av. Pau Casals, 18-20 (Àrea central) 08450 Llinars del Vallès
METHOD:PUBLISH
X-WR-CALNAME:info@llinarsdelvalles.cat
X-WR-TIMEZONE:Europe/Madrid
DESCRIPTION:Organitza: Centre Excursionista de Llinars.

URI:https://www.llinarsdelvalles.cat/actualitat/agenda/25a-caminada-popular-.html
CLASS:PUBLIC
END:VEVENT
END:VCALENDAR
