BEGIN:VCALENDAR
VERSION:2.0
CALSCALE:GREGORIAN
PRODID:-//Diputació de Barcelona//DibaCMS//EN
BEGIN:VEVENT
UID:55013
DTSTAMP:20260424T113447
DTSTART:20191206T220000
DTEND:20191206T220000
SUMMARY:VINE A CELEBRAR EL 25è ANIVERSARI DE CASALS DE JOVES DE CATALUNYA 
LOCATION:Av. Pau Casals, 22-24 (Àrea central) 08450 Llinars del Vallès
METHOD:PUBLISH
X-WR-CALNAME:info@llinarsdelvalles.cat
X-WR-TIMEZONE:Europe/Madrid
DESCRIPTION:Actuació de Llobre Mag i PDs.

URI:https://www.llinarsdelvalles.cat/actualitat/agenda/vine-a-celebrar-el-25e-aniversari-de-casals-de-joves-de-catalunya-.html
CLASS:PUBLIC
END:VEVENT
END:VCALENDAR
