BEGIN:VCALENDAR
VERSION:2.0
CALSCALE:GREGORIAN
PRODID:-//Diputació de Barcelona//DibaCMS//EN
BEGIN:VEVENT
UID:55014
DTSTAMP:20260422T124253
DTSTART:20191213T173000
DTEND:20191213T173000
SUMMARY:L'HORA DEL CONTE - "Contes de Nadal"
LOCATION:Av. Pau Casals, 26 08450 Llinars del Vallès
METHOD:PUBLISH
X-WR-CALNAME:info@llinarsdelvalles.cat
X-WR-TIMEZONE:Europe/Madrid
DESCRIPTION:Viatjarem al país dels contes de la mà de Caro von Arend.

URI:https://www.llinarsdelvalles.cat/actualitat/agenda/lhora-del-conte-contes-de-nadal.html
CLASS:PUBLIC
END:VEVENT
END:VCALENDAR
