BEGIN:VCALENDAR
VERSION:2.0
CALSCALE:GREGORIAN
PRODID:-//Diputació de Barcelona//DibaCMS//EN
BEGIN:VEVENT
UID:55015
DTSTAMP:20260422T141237
DTSTART:20191213T180000
DTEND:20191213T200000
SUMMARY:2a JORNADA PARTICIPATIVA del Pla Local de Salut de Llinars del Vallès
LOCATION:C/ Josep Argila, 39 08450 Llinars del Vallés
METHOD:PUBLISH
X-WR-CALNAME:info@llinarsdelvalles.cat
X-WR-TIMEZONE:Europe/Madrid
DESCRIPTION:Per un municipi més saludable.

URI:https://www.llinarsdelvalles.cat/actualitat/agenda/2a-jornada-participativa-del-pla-local-de-salut-de-llinars-del-valles.html
CLASS:PUBLIC
END:VEVENT
END:VCALENDAR
