BEGIN:VCALENDAR
VERSION:2.0
CALSCALE:GREGORIAN
PRODID:-//Diputació de Barcelona//DibaCMS//EN
BEGIN:VEVENT
UID:55016
DTSTAMP:20260422T162729
DTSTART:20191213T190000
DTEND:20191213T190000
SUMMARY:TALLER PER ADULTS - "Ramet Nadalenc" 
LOCATION:Av. Pau Casals, 26 08450 Llinars del Vallès
METHOD:PUBLISH
X-WR-CALNAME:info@llinarsdelvalles.cat
X-WR-TIMEZONE:Europe/Madrid
DESCRIPTION:A cárrec de Maria Pey.

URI:https://www.llinarsdelvalles.cat/actualitat/agenda/taller-per-adults-ramet-nadalenc-.html
CLASS:PUBLIC
END:VEVENT
END:VCALENDAR
