BEGIN:VCALENDAR
VERSION:2.0
CALSCALE:GREGORIAN
PRODID:-//Diputació de Barcelona//DibaCMS//EN
BEGIN:VEVENT
UID:55018
DTSTAMP:20260422T124958
DTSTART:20191214T103000
DTEND:20191214T103000
SUMMARY:CLUB DE LECTURA
LOCATION:Av. Pau Casals, 26 08450 Llinars del Vallès
METHOD:PUBLISH
X-WR-CALNAME:info@llinarsdelvalles.cat
X-WR-TIMEZONE:Europe/Madrid
DESCRIPTION:A càrrec de José Luis Ibáñez.

URI:https://www.llinarsdelvalles.cat/actualitat/agenda/55018-club-de-lectura.html
CLASS:PUBLIC
END:VEVENT
END:VCALENDAR
