BEGIN:VCALENDAR
VERSION:2.0
CALSCALE:GREGORIAN
PRODID:-//Diputació de Barcelona//DibaCMS//EN
BEGIN:VEVENT
UID:55024
DTSTAMP:20260422T125206
DTSTART:20191221T113000
DTEND:20191221T113000
SUMMARY:L'HORA DELS NADONS - "Històries Nadalenques" 
LOCATION:Av. Pau Casals, 26 08450 Llinars del Vallès
METHOD:PUBLISH
X-WR-CALNAME:info@llinarsdelvalles.cat
X-WR-TIMEZONE:Europe/Madrid
DESCRIPTION:A càrrec de Cia Alma i la mar de contes.

URI:https://www.llinarsdelvalles.cat/actualitat/agenda/lhora-dels-nadons-histories-nadalenques-.html
CLASS:PUBLIC
END:VEVENT
END:VCALENDAR
