BEGIN:VCALENDAR
VERSION:2.0
CALSCALE:GREGORIAN
PRODID:-//Diputació de Barcelona//DibaCMS//EN
BEGIN:VEVENT
UID:55029
DTSTAMP:20260422T114109
DTSTART:20191229T160000
DTEND:20191229T200000
SUMMARY:PARC DE NADAL SOLIDARI 
LOCATION:Av. Pau Casals, 22-24 (Àrea central) 08450 Llinars del Vallès
METHOD:PUBLISH
X-WR-CALNAME:info@llinarsdelvalles.cat
X-WR-TIMEZONE:Europe/Madrid
DESCRIPTION:Per accedir, cal que porteu una joguina o un aliment de llarga caducitat.

URI:https://www.llinarsdelvalles.cat/actualitat/agenda/55029-parc-de-nadal-solidari-.html
CLASS:PUBLIC
END:VEVENT
END:VCALENDAR
